BEGIN:VCALENDAR
VERSION:2.0
PRODID:-// - ECPv6.10.0//NONSGML v1.0//EN
CALSCALE:GREGORIAN
METHOD:PUBLISH
X-ORIGINAL-URL:https://www.st-clair-du-rhone.fr
X-WR-CALDESC:Évènements pour 
REFRESH-INTERVAL;VALUE=DURATION:PT1H
X-Robots-Tag:noindex
X-PUBLISHED-TTL:PT1H
BEGIN:VTIMEZONE
TZID:Europe/Paris
BEGIN:DAYLIGHT
TZOFFSETFROM:+0100
TZOFFSETTO:+0200
TZNAME:CEST
DTSTART:20260329T010000
END:DAYLIGHT
BEGIN:STANDARD
TZOFFSETFROM:+0200
TZOFFSETTO:+0100
TZNAME:CET
DTSTART:20261025T010000
END:STANDARD
END:VTIMEZONE
BEGIN:VEVENT
DTSTART;TZID=Europe/Paris:20260502T200000
DTEND;TZID=Europe/Paris:20260502T223000
DTSTAMP:20260424T235210
CREATED:20260223T150857Z
LAST-MODIFIED:20260331T081518Z
UID:24481-1777752000-1777761000@www.st-clair-du-rhone.fr
SUMMARY:Spectacle de théâtre Sacrée Soirée par les  "Les Gones de Poquelin" -  un événement Saint-Clair-du-Rhône Culture & Patrimoine
DESCRIPTION:  \nSamedi 2 MAI A 20H30 – TOUT PUBLIC \nSALLE DE SPECTACLES  SAINT -CLAIR-DU -RHÔNE  – 30 Impasse du jumelage \nAccès PMR \nRéservations SMS avec NOM & NOMBRE au 06 52 90 30 31 pour un meilleur accueil \n  \n« Au Printemps 1900\, \nMathilde et Victor arrivent dans leur maison secondaire. \nVictor invite son meilleur ami Antoine pour le week-end. \nMais 2 autres femme vont faire irruption. \nAmour\, Mensonge\, Tromperie et Quiproquo. \nUne soirée pleine de surprises et de rebondissements ! « 
URL:https://www.st-clair-du-rhone.fr/event/spectacle-de-theatre-les-gones-de-poquelin/
ATTACH;FMTTYPE=image/jpeg:https://www.st-clair-du-rhone.fr/wp-content/uploads/2026/02/Affiche-evenements3-002.jpg
END:VEVENT
END:VCALENDAR