BEGIN:VCALENDAR
VERSION:2.0
PRODID:-// - ECPv6.10.0//NONSGML v1.0//EN
CALSCALE:GREGORIAN
METHOD:PUBLISH
X-ORIGINAL-URL:https://www.st-clair-du-rhone.fr
X-WR-CALDESC:Évènements pour 
REFRESH-INTERVAL;VALUE=DURATION:PT1H
X-Robots-Tag:noindex
X-PUBLISHED-TTL:PT1H
BEGIN:VTIMEZONE
TZID:Europe/Paris
BEGIN:DAYLIGHT
TZOFFSETFROM:+0100
TZOFFSETTO:+0200
TZNAME:CEST
DTSTART:20260329T010000
END:DAYLIGHT
BEGIN:STANDARD
TZOFFSETFROM:+0200
TZOFFSETTO:+0100
TZNAME:CET
DTSTART:20261025T010000
END:STANDARD
END:VTIMEZONE
BEGIN:VEVENT
DTSTART;TZID=Europe/Paris:20260426T150000
DTEND;TZID=Europe/Paris:20260426T170000
DTSTAMP:20260426T020512
CREATED:20260420T124824Z
LAST-MODIFIED:20260420T124851Z
UID:25459-1777215600-1777222800@www.st-clair-du-rhone.fr
SUMMARY:Match de foot AS Rhodanienne
DESCRIPTION:Dans le cadre de la 20ᵉ journée de D3\, notre équipe fanion recevra le club de GS Chasse : \n* Dimanche 26 avril 2026\n* Coup d’envoi à 15h00\n* Stade intercommunal Henri Fouchard \nUn match de lever de rideau aura également lieu à 13h (ASR 2 vs Chasse 2).
URL:https://www.st-clair-du-rhone.fr/event/match-de-foot-as-rhodanienne/
ATTACH;FMTTYPE=image/jpeg:https://www.st-clair-du-rhone.fr/wp-content/uploads/2026/04/hfhff.jpg
END:VEVENT
END:VCALENDAR