BEGIN:VCALENDAR
VERSION:2.0
PRODID:-// - ECPv6.10.0//NONSGML v1.0//EN
CALSCALE:GREGORIAN
METHOD:PUBLISH
X-ORIGINAL-URL:https://www.st-clair-du-rhone.fr
X-WR-CALDESC:Évènements pour 
REFRESH-INTERVAL;VALUE=DURATION:PT1H
X-Robots-Tag:noindex
X-PUBLISHED-TTL:PT1H
BEGIN:VTIMEZONE
TZID:Europe/Paris
BEGIN:DAYLIGHT
TZOFFSETFROM:+0100
TZOFFSETTO:+0200
TZNAME:CEST
DTSTART:20240331T010000
END:DAYLIGHT
BEGIN:STANDARD
TZOFFSETFROM:+0200
TZOFFSETTO:+0100
TZNAME:CET
DTSTART:20241027T010000
END:STANDARD
END:VTIMEZONE
BEGIN:VEVENT
DTSTART;VALUE=DATE:20240623
DTEND;VALUE=DATE:20240624
DTSTAMP:20260426T002748
CREATED:20240325T094412Z
LAST-MODIFIED:20240613T070735Z
UID:20245-1719100800-1719187199@www.st-clair-du-rhone.fr
SUMMARY:Qi Gong en plein air avec Ha'Cor
DESCRIPTION:Dimanche 23 juin 2024 journée Qi Gong en plein air repli en salle en cas de mauvais temps. \nProgramme et réservation au 06 48 67 29 18 Jeoffrey Roussel intervenant Qi Gong
URL:https://www.st-clair-du-rhone.fr/event/qi-gong-en-plein-air-avec-hacor/
ATTACH;FMTTYPE=image/jpeg:https://www.st-clair-du-rhone.fr/wp-content/uploads/2024/03/qi-gong-hacor.jpg
END:VEVENT
END:VCALENDAR