BEGIN:VCALENDAR
VERSION:2.0
PRODID:-// - ECPv6.10.0//NONSGML v1.0//EN
CALSCALE:GREGORIAN
METHOD:PUBLISH
X-ORIGINAL-URL:https://www.st-clair-du-rhone.fr
X-WR-CALDESC:Évènements pour 
REFRESH-INTERVAL;VALUE=DURATION:PT1H
X-Robots-Tag:noindex
X-PUBLISHED-TTL:PT1H
BEGIN:VTIMEZONE
TZID:Europe/Paris
BEGIN:DAYLIGHT
TZOFFSETFROM:+0100
TZOFFSETTO:+0200
TZNAME:CEST
DTSTART:20240331T010000
END:DAYLIGHT
BEGIN:STANDARD
TZOFFSETFROM:+0200
TZOFFSETTO:+0100
TZNAME:CET
DTSTART:20241027T010000
END:STANDARD
END:VTIMEZONE
BEGIN:VEVENT
DTSTART;TZID=Europe/Paris:20240618T083000
DTEND;TZID=Europe/Paris:20240618T203000
DTSTAMP:20260425T163417
CREATED:20230822T123811Z
LAST-MODIFIED:20230822T123811Z
UID:18127-1718699400-1718742600@www.st-clair-du-rhone.fr
SUMMARY:ACCRO'Enfance : inscriptions vacances d'été
DESCRIPTION:Les inscriptions pour les vacances d’été ont lieu mardi 18 juin de 08:30 à 20:30 non-stop à l’espace Paul Benatru chemin Emile Faure à Saint-Clair-du-Rhône. \nATTENTION : aucune inscription par email. \nPOUR INFO\, le service sera fermé du 01-01 au 05-01-2024 inclus et du 05 au 09-08-2024 ainsi que le 16-08-2024.
URL:https://www.st-clair-du-rhone.fr/event/accroenfance-inscriptions-vacances-dete/
LOCATION:Espace Paul Benatru\, Rue Emile Faure\, Saint Clair du Rhône\, 38370\, France
ATTACH;FMTTYPE=image/png:https://www.st-clair-du-rhone.fr/wp-content/uploads/2022/12/logo-ACCRO.png
END:VEVENT
BEGIN:VEVENT
DTSTART;TZID=Europe/Paris:20240618T180000
DTEND;TZID=Europe/Paris:20240618T190000
DTSTAMP:20260425T163417
CREATED:20240617T073953Z
LAST-MODIFIED:20240617T142118Z
UID:20955-1718733600-1718737200@www.st-clair-du-rhone.fr
SUMMARY:Tirage au sort des jurés d’assises 2025
DESCRIPTION:Le tirage au sort des jurés d’assises pour l’année 2025 se déroulera le mardi 18 juin à 18 H 00 en mairie en salle des mariages. En application des dispositions du code de procédure pénale\, le maire procède à un tirage au sort public à partir des listes électorales (art. 260 du code de procédure pénale). \nUn juré d’assises participe aux côtés des magistrats professionnels aux procès des personnes accusées de crime\, infraction la plus grave punissable par une peine de prison. Le juré exerce pleinement la fonction de juge. Si vous êtes retenu pour siéger lors d’une session d’assises\, vous êtes obligé de le faire sauf motif grave. Vous devez respecter certaines obligations. Vous avez droit à des indemnités. \n1er tirage au sort \nLes jurés qui siégeront effectivement pendant un procès d’assises sont sélectionnés parmi un grand nombre de personnes tirées au sort sur les listes électorales. \n2nd tirage au sort par la commission spéciale \nUne commission spéciale placée auprès de chaque cour d’assises (une cour d’assises par département) se réunit ensuite pour affiner les listes des jurés reçues des communes. Elle procède à un nouveau tirage au sort et établit pour chaque commune la liste annuelle des jurés et la liste spéciale des jurés suppléants. \nDésignation des jurés \nPour chaque session d’assises\, les présidents des tribunaux judiciaires et de la cour d’appel\, ou leurs délégués\, tirent au sort en public les jurés\, à partir de la liste annuelle des jurés.
URL:https://www.st-clair-du-rhone.fr/event/tirage-au-sort-des-jures-dassises-2025/
END:VEVENT
BEGIN:VEVENT
DTSTART;TZID=Europe/Paris:20240618T180000
DTEND;TZID=Europe/Paris:20240618T193000
DTSTAMP:20260425T163417
CREATED:20240429T093937Z
LAST-MODIFIED:20240429T093937Z
UID:20599-1718733600-1718739000@www.st-clair-du-rhone.fr
SUMMARY:Portes ouvertes à l'AS Rhodanienne catégories U12-U13
DESCRIPTION:Portes ouvertes de l’AS Rhodanienne pour les catégories U12 et U13 tous les mardis et vendredis du mois de juin 2024 de 18h à 19h30.
URL:https://www.st-clair-du-rhone.fr/event/portes-ouvertes-a-las-rhodanienne-categories-u12-u13-5/
ATTACH;FMTTYPE=image/jpeg:https://www.st-clair-du-rhone.fr/wp-content/uploads/2024/04/JOURNEES-PORTES-OUVERTES-2024-ASR.jpg
END:VEVENT
END:VCALENDAR