BEGIN:VCALENDAR
VERSION:2.0
PRODID:-// - ECPv6.10.0//NONSGML v1.0//EN
CALSCALE:GREGORIAN
METHOD:PUBLISH
X-ORIGINAL-URL:https://www.st-clair-du-rhone.fr
X-WR-CALDESC:Évènements pour 
REFRESH-INTERVAL;VALUE=DURATION:PT1H
X-Robots-Tag:noindex
X-PUBLISHED-TTL:PT1H
BEGIN:VTIMEZONE
TZID:Europe/Paris
BEGIN:DAYLIGHT
TZOFFSETFROM:+0100
TZOFFSETTO:+0200
TZNAME:CEST
DTSTART:20240331T010000
END:DAYLIGHT
BEGIN:STANDARD
TZOFFSETFROM:+0200
TZOFFSETTO:+0100
TZNAME:CET
DTSTART:20241027T010000
END:STANDARD
END:VTIMEZONE
BEGIN:VEVENT
DTSTART;TZID=Europe/Paris:20240617T180000
DTEND;TZID=Europe/Paris:20240617T193000
DTSTAMP:20260425T150723
CREATED:20240429T093204Z
LAST-MODIFIED:20240429T093204Z
UID:20583-1718647200-1718652600@www.st-clair-du-rhone.fr
SUMMARY:Portes ouvertes à l'AS Rhodanienne catégories U10-U11
DESCRIPTION:Portes ouvertes de l’AS Rhodanienne pour les catégories U10 et U11 tous les lundis et jeudis du mois de juin 2024 de 18h à 19h30.
URL:https://www.st-clair-du-rhone.fr/event/portes-ouvertes-a-las-rhodanienne-categories-u10-u11-5/
ATTACH;FMTTYPE=image/jpeg:https://www.st-clair-du-rhone.fr/wp-content/uploads/2024/04/JOURNEES-PORTES-OUVERTES-2024-ASR.jpg
END:VEVENT
END:VCALENDAR