BEGIN:VCALENDAR
VERSION:2.0
PRODID:-// - ECPv6.10.0//NONSGML v1.0//EN
CALSCALE:GREGORIAN
METHOD:PUBLISH
X-ORIGINAL-URL:https://www.st-clair-du-rhone.fr
X-WR-CALDESC:Évènements pour 
REFRESH-INTERVAL;VALUE=DURATION:PT1H
X-Robots-Tag:noindex
X-PUBLISHED-TTL:PT1H
BEGIN:VTIMEZONE
TZID:Europe/Paris
BEGIN:DAYLIGHT
TZOFFSETFROM:+0100
TZOFFSETTO:+0200
TZNAME:CEST
DTSTART:20240331T010000
END:DAYLIGHT
BEGIN:STANDARD
TZOFFSETFROM:+0200
TZOFFSETTO:+0100
TZNAME:CET
DTSTART:20241027T010000
END:STANDARD
END:VTIMEZONE
BEGIN:VEVENT
DTSTART;TZID=Europe/Paris:20240616T160000
DTEND;TZID=Europe/Paris:20240616T180000
DTSTAMP:20260425T132310
CREATED:20240513T063930Z
LAST-MODIFIED:20240513T065736Z
UID:20711-1718553600-1718560800@www.st-clair-du-rhone.fr
SUMMARY:Comédie musicale et Variété avec Nouvelles Légendes
DESCRIPTION:Pour son concert annuel gratuit\, le groupe vocal Nouvelles Légendes\, que l’on ne présente plus\, invite la troupe CHANTALOISIR pour un spectacle mêlant comédie musicale et variété. \nCHANTALOISIR\, créée en 1986 par une bande d’amis est aujourd’hui une troupe de 70 amateurs tous complices\, qui partagent ensemble le plaisir de chanter\, danser et jouer la comédie\, sous la direction artistique de Cédric Bécu et avec l’imagination de 2 chorégraphes\, Laure Pimbert et Bouchra Chafik. \nL’inspiration est puisée dans les chansons actuelles et contemporaines\, mais pourquoi pas classiques aussi\, dans le répertoire Français ou Anglo saxon. \nDimanche 16 juin à 16h (ouverture des portes à 15h30) à la salle de spectacles de Saint-Clair-du-Rhône  \nEntrée gratuite\, sortie généreuse. \nContact : 06 36 94 13 36 – communication@nouvelleslegendes.fr \n  \n 
URL:https://www.st-clair-du-rhone.fr/event/comedie-musicale-et-variete-de-nouvelles-legendes/
LOCATION:Salle de spectacles Mairie\, Place Ch. de Gaulle\, SAINT CLAIR DU RHONE\, 38370
ATTACH;FMTTYPE=image/jpeg:https://www.st-clair-du-rhone.fr/wp-content/uploads/2024/05/Comedie-musicale-et-varietes-16-juin-2024-nouvelles-legendes.jpg
END:VEVENT
END:VCALENDAR