BEGIN:VCALENDAR
VERSION:2.0
PRODID:-// - ECPv6.10.0//NONSGML v1.0//EN
CALSCALE:GREGORIAN
METHOD:PUBLISH
X-ORIGINAL-URL:https://www.st-clair-du-rhone.fr
X-WR-CALDESC:Évènements pour 
REFRESH-INTERVAL;VALUE=DURATION:PT1H
X-Robots-Tag:noindex
X-PUBLISHED-TTL:PT1H
BEGIN:VTIMEZONE
TZID:Europe/Paris
BEGIN:DAYLIGHT
TZOFFSETFROM:+0100
TZOFFSETTO:+0200
TZNAME:CEST
DTSTART:20240331T010000
END:DAYLIGHT
BEGIN:STANDARD
TZOFFSETFROM:+0200
TZOFFSETTO:+0100
TZNAME:CET
DTSTART:20241027T010000
END:STANDARD
END:VTIMEZONE
BEGIN:VEVENT
DTSTART;TZID=Europe/Paris:20240604T180000
DTEND;TZID=Europe/Paris:20240604T193000
DTSTAMP:20260424T202813
CREATED:20240429T093603Z
LAST-MODIFIED:20240429T093603Z
UID:20591-1717524000-1717529400@www.st-clair-du-rhone.fr
SUMMARY:Portes ouvertes à l'AS Rhodanienne catégories U12-U13
DESCRIPTION:Portes ouvertes de l’AS Rhodanienne pour les catégories U12 et U13 tous les mardis et vendredis du mois de juin 2024 de 18h à 19h30.
URL:https://www.st-clair-du-rhone.fr/event/portes-ouvertes-a-las-rhodanienne-categories-u12-u13/
ATTACH;FMTTYPE=image/jpeg:https://www.st-clair-du-rhone.fr/wp-content/uploads/2024/04/JOURNEES-PORTES-OUVERTES-2024-ASR.jpg
END:VEVENT
BEGIN:VEVENT
DTSTART;TZID=Europe/Paris:20240604T190000
DTEND;TZID=Europe/Paris:20240604T210000
DTSTAMP:20260424T202813
CREATED:20240418T071438Z
LAST-MODIFIED:20240418T071438Z
UID:20478-1717527600-1717534800@www.st-clair-du-rhone.fr
SUMMARY:Assemblée générale du centre de soin
DESCRIPTION:Mardi 04 juin 2024 à 19h se tiendra à la Mairie de Saint Clair du Rhône l’assemblée générale annuelle du centre de soins infirmiers (CSI) et service de soins à domicile (SSIAD) de Saint Clair du Rhône. \nTous les habitants du village sont invités à cette assemblée générale qui permet de connaître le fonctionnement du centre de soins infirmier et du SSIAD à domicile.
URL:https://www.st-clair-du-rhone.fr/event/assemblee-generale-du-centre-de-soin/
LOCATION:Mairie\, Mairie\, Place Charles de Gaulle\, Saint Clair du Rhône\, 38370\, France
END:VEVENT
END:VCALENDAR